BEGIN:VCALENDAR
VERSION:2.0
PRODID:-//The Entrance Leagues - ECPv6.15.16.1//NONSGML v1.0//EN
CALSCALE:GREGORIAN
METHOD:PUBLISH
X-ORIGINAL-URL:https://telclub.com.au
X-WR-CALDESC:Events for The Entrance Leagues
REFRESH-INTERVAL;VALUE=DURATION:PT1H
X-Robots-Tag:noindex
X-PUBLISHED-TTL:PT1H
BEGIN:VTIMEZONE
TZID:Australia/Sydney
BEGIN:STANDARD
TZOFFSETFROM:+1100
TZOFFSETTO:+1000
TZNAME:AEST
DTSTART:20250405T160000
END:STANDARD
BEGIN:DAYLIGHT
TZOFFSETFROM:+1000
TZOFFSETTO:+1100
TZNAME:AEDT
DTSTART:20251004T160000
END:DAYLIGHT
BEGIN:STANDARD
TZOFFSETFROM:+1100
TZOFFSETTO:+1000
TZNAME:AEST
DTSTART:20260404T160000
END:STANDARD
BEGIN:DAYLIGHT
TZOFFSETFROM:+1000
TZOFFSETTO:+1100
TZNAME:AEDT
DTSTART:20261003T160000
END:DAYLIGHT
BEGIN:STANDARD
TZOFFSETFROM:+1100
TZOFFSETTO:+1000
TZNAME:AEST
DTSTART:20270403T160000
END:STANDARD
BEGIN:DAYLIGHT
TZOFFSETFROM:+1000
TZOFFSETTO:+1100
TZNAME:AEDT
DTSTART:20271002T160000
END:DAYLIGHT
BEGIN:STANDARD
TZOFFSETFROM:+1100
TZOFFSETTO:+1000
TZNAME:AEST
DTSTART:20280401T160000
END:STANDARD
BEGIN:DAYLIGHT
TZOFFSETFROM:+1000
TZOFFSETTO:+1100
TZNAME:AEDT
DTSTART:20280930T160000
END:DAYLIGHT
BEGIN:STANDARD
TZOFFSETFROM:+1100
TZOFFSETTO:+1000
TZNAME:AEST
DTSTART:20290331T160000
END:STANDARD
BEGIN:DAYLIGHT
TZOFFSETFROM:+1000
TZOFFSETTO:+1100
TZNAME:AEDT
DTSTART:20291006T160000
END:DAYLIGHT
BEGIN:STANDARD
TZOFFSETFROM:+1100
TZOFFSETTO:+1000
TZNAME:AEST
DTSTART:20300406T160000
END:STANDARD
BEGIN:DAYLIGHT
TZOFFSETFROM:+1000
TZOFFSETTO:+1100
TZNAME:AEDT
DTSTART:20301005T160000
END:DAYLIGHT
END:VTIMEZONE
BEGIN:VEVENT
DTSTART;TZID=Australia/Sydney:20260423T153000
DTEND;TZID=Australia/Sydney:20290425T193000
DTSTAMP:20260423T121815
CREATED:20230613T015214Z
LAST-MODIFIED:20241003T012547Z
UID:10010040-1776958200-1871839800@telclub.com.au
SUMMARY:Courtesy Bus
DESCRIPTION:
URL:https://telclub.com.au/event/courtesy-bus-2/2026-04-23/
CATEGORIES:Weekly
ATTACH;FMTTYPE=image/jpeg:https://telclub.com.au/wp-content/uploads/2023/06/Courtesy-Bus-1.jpg
END:VEVENT
BEGIN:VEVENT
DTSTART;TZID=Australia/Sydney:20260424T080000
DTEND;TZID=Australia/Sydney:20280423T170000
DTSTAMP:20260423T121815
CREATED:20241002T034331Z
LAST-MODIFIED:20260319T020401Z
UID:10008920-1777017600-1840122000@telclub.com.au
SUMMARY:Weekly Raffles | Wed\, Fri & Sun
DESCRIPTION:
URL:https://telclub.com.au/event/weekly-raffles/2026-04-24/
CATEGORIES:Weekly
ATTACH;FMTTYPE=image/jpeg:https://telclub.com.au/wp-content/uploads/2023/05/Weely-Raffles-Jan-24-Flyer-e1706162250634.jpg
END:VEVENT
BEGIN:VEVENT
DTSTART;TZID=Australia/Sydney:20260427T094500
DTEND;TZID=Australia/Sydney:20281027T094500
DTSTAMP:20260423T121815
CREATED:20230525T051050Z
LAST-MODIFIED:20250108T033425Z
UID:10006546-1777283100-1856252700@telclub.com.au
SUMMARY:Bingo
DESCRIPTION:
URL:https://telclub.com.au/event/bingo/2026-04-27/
CATEGORIES:Weekly
ATTACH;FMTTYPE=image/jpeg:https://telclub.com.au/wp-content/uploads/2023/05/Happy-Hour-Weekdays-Feb-23-Facebook-Post-Landscape-1-e1698295046385.jpg
END:VEVENT
BEGIN:VEVENT
DTSTART;TZID=Australia/Sydney:20260428T173000
DTEND;TZID=Australia/Sydney:20270624T173000
DTSTAMP:20260423T121815
CREATED:20230615T003608Z
LAST-MODIFIED:20250131T224021Z
UID:10003897-1777397400-1813858200@telclub.com.au
SUMMARY:Tuesday Steak Night
DESCRIPTION:
URL:https://telclub.com.au/event/tuesday-special/2026-04-28/
CATEGORIES:Weekly,weekly special
ATTACH;FMTTYPE=image/png:https://telclub.com.au/wp-content/uploads/2023/06/2-1-1-e1722926045784.png
END:VEVENT
BEGIN:VEVENT
DTSTART;TZID=Australia/Sydney:20260506T000000
DTEND;TZID=Australia/Sydney:20280504T005900
DTSTAMP:20260423T121815
CREATED:20250204T220057Z
LAST-MODIFIED:20260224T220607Z
UID:10013024-1778025600-1841014740@telclub.com.au
SUMMARY:Monthly Cabaret Show - FREE (Last Wed of every Month)
DESCRIPTION:
URL:https://telclub.com.au/event/monthly-cabaret-show-free-2/2026-05-06/
CATEGORIES:Entertainment,Upcoming
ATTACH;FMTTYPE=image/jpeg:https://telclub.com.au/wp-content/uploads/2023/10/Happy-Hour-Weekdays-Feb-23-Facebook-Post-Landscape-2.jpg
END:VEVENT
END:VCALENDAR