BEGIN:VCALENDAR
VERSION:2.0
PRODID:-//The Entrance Leagues - ECPv6.15.16.1//NONSGML v1.0//EN
CALSCALE:GREGORIAN
METHOD:PUBLISH
X-WR-CALNAME:The Entrance Leagues
X-ORIGINAL-URL:https://telclub.com.au
X-WR-CALDESC:Events for The Entrance Leagues
REFRESH-INTERVAL;VALUE=DURATION:PT1H
X-Robots-Tag:noindex
X-PUBLISHED-TTL:PT1H
BEGIN:VTIMEZONE
TZID:Australia/Sydney
BEGIN:STANDARD
TZOFFSETFROM:+1100
TZOFFSETTO:+1000
TZNAME:AEST
DTSTART:20250405T160000
END:STANDARD
BEGIN:DAYLIGHT
TZOFFSETFROM:+1000
TZOFFSETTO:+1100
TZNAME:AEDT
DTSTART:20251004T160000
END:DAYLIGHT
BEGIN:STANDARD
TZOFFSETFROM:+1100
TZOFFSETTO:+1000
TZNAME:AEST
DTSTART:20260404T160000
END:STANDARD
BEGIN:DAYLIGHT
TZOFFSETFROM:+1000
TZOFFSETTO:+1100
TZNAME:AEDT
DTSTART:20261003T160000
END:DAYLIGHT
BEGIN:STANDARD
TZOFFSETFROM:+1100
TZOFFSETTO:+1000
TZNAME:AEST
DTSTART:20270403T160000
END:STANDARD
BEGIN:DAYLIGHT
TZOFFSETFROM:+1000
TZOFFSETTO:+1100
TZNAME:AEDT
DTSTART:20271002T160000
END:DAYLIGHT
BEGIN:STANDARD
TZOFFSETFROM:+1100
TZOFFSETTO:+1000
TZNAME:AEST
DTSTART:20280401T160000
END:STANDARD
BEGIN:DAYLIGHT
TZOFFSETFROM:+1000
TZOFFSETTO:+1100
TZNAME:AEDT
DTSTART:20280930T160000
END:DAYLIGHT
END:VTIMEZONE
BEGIN:VEVENT
DTSTART;TZID=Australia/Sydney:20260423T173000
DTEND;TZID=Australia/Sydney:20270218T183000
DTSTAMP:20260424T031907
CREATED:20230615T005417Z
LAST-MODIFIED:20260317T012551Z
UID:10003036-1776965400-1802975400@telclub.com.au
SUMMARY:Thursday Special - Pork Ribs
DESCRIPTION:
URL:https://telclub.com.au/event/thursday-special/2026-04-23/
CATEGORIES:Weekly,weekly special
ATTACH;FMTTYPE=image/jpeg:https://telclub.com.au/wp-content/uploads/2023/06/Thursday-Ribs-March-2026.jpg
END:VEVENT
BEGIN:VEVENT
DTSTART;TZID=Australia/Sydney:20260424T080000
DTEND;TZID=Australia/Sydney:20270116T180000
DTSTAMP:20260424T031907
CREATED:20240806T064845Z
LAST-MODIFIED:20250604T034427Z
UID:10005959-1777017600-1800122400@telclub.com.au
SUMMARY:Friday Burger Night
DESCRIPTION:
URL:https://telclub.com.au/event/friday-ribs-night-2/2026-04-24/
CATEGORIES:Weekly,weekly special
ATTACH;FMTTYPE=image/jpeg:https://telclub.com.au/wp-content/uploads/2024/08/BAYBREEZE_Cafe-Friday_Special_MAY_2025_TVP.jpg
END:VEVENT
END:VCALENDAR