BEGIN:VCALENDAR
VERSION:2.0
PRODID:-//The Entrance Leagues - ECPv6.15.16.1//NONSGML v1.0//EN
CALSCALE:GREGORIAN
METHOD:PUBLISH
X-WR-CALNAME:The Entrance Leagues
X-ORIGINAL-URL:https://telclub.com.au
X-WR-CALDESC:Events for The Entrance Leagues
REFRESH-INTERVAL;VALUE=DURATION:PT1H
X-Robots-Tag:noindex
X-PUBLISHED-TTL:PT1H
BEGIN:VTIMEZONE
TZID:Australia/Sydney
BEGIN:STANDARD
TZOFFSETFROM:+1100
TZOFFSETTO:+1000
TZNAME:AEST
DTSTART:20230401T160000
END:STANDARD
BEGIN:DAYLIGHT
TZOFFSETFROM:+1000
TZOFFSETTO:+1100
TZNAME:AEDT
DTSTART:20230930T160000
END:DAYLIGHT
BEGIN:STANDARD
TZOFFSETFROM:+1100
TZOFFSETTO:+1000
TZNAME:AEST
DTSTART:20240406T160000
END:STANDARD
BEGIN:DAYLIGHT
TZOFFSETFROM:+1000
TZOFFSETTO:+1100
TZNAME:AEDT
DTSTART:20241005T160000
END:DAYLIGHT
BEGIN:STANDARD
TZOFFSETFROM:+1100
TZOFFSETTO:+1000
TZNAME:AEST
DTSTART:20250405T160000
END:STANDARD
BEGIN:DAYLIGHT
TZOFFSETFROM:+1000
TZOFFSETTO:+1100
TZNAME:AEDT
DTSTART:20251004T160000
END:DAYLIGHT
BEGIN:STANDARD
TZOFFSETFROM:+1100
TZOFFSETTO:+1000
TZNAME:AEST
DTSTART:20260404T160000
END:STANDARD
BEGIN:DAYLIGHT
TZOFFSETFROM:+1000
TZOFFSETTO:+1100
TZNAME:AEDT
DTSTART:20261003T160000
END:DAYLIGHT
BEGIN:STANDARD
TZOFFSETFROM:+1100
TZOFFSETTO:+1000
TZNAME:AEST
DTSTART:20270403T160000
END:STANDARD
BEGIN:DAYLIGHT
TZOFFSETFROM:+1000
TZOFFSETTO:+1100
TZNAME:AEDT
DTSTART:20271002T160000
END:DAYLIGHT
BEGIN:STANDARD
TZOFFSETFROM:+1100
TZOFFSETTO:+1000
TZNAME:AEST
DTSTART:20280401T160000
END:STANDARD
BEGIN:DAYLIGHT
TZOFFSETFROM:+1000
TZOFFSETTO:+1100
TZNAME:AEDT
DTSTART:20280930T160000
END:DAYLIGHT
END:VTIMEZONE
BEGIN:VEVENT
DTSTART;TZID=Australia/Sydney:20240228T153000
DTEND;TZID=Australia/Sydney:20270302T193000
DTSTAMP:20260423T173107
CREATED:20230613T015214Z
LAST-MODIFIED:20241003T012547Z
UID:10002296-1709134200-1804015800@telclub.com.au
SUMMARY:Courtesy Bus
DESCRIPTION:
URL:https://telclub.com.au/event/courtesy-bus-2/2024-02-28/
CATEGORIES:Weekly
ATTACH;FMTTYPE=image/jpeg:https://telclub.com.au/wp-content/uploads/2023/06/Courtesy-Bus-1.jpg
END:VEVENT
BEGIN:VEVENT
DTSTART;TZID=Australia/Sydney:20240902T094500
DTEND;TZID=Australia/Sydney:20270305T094500
DTSTAMP:20260423T173107
CREATED:20230525T051050Z
LAST-MODIFIED:20250108T033425Z
UID:10006374-1725270300-1804239900@telclub.com.au
SUMMARY:Bingo
DESCRIPTION:
URL:https://telclub.com.au/event/bingo/2024-09-02/
CATEGORIES:Weekly
ATTACH;FMTTYPE=image/jpeg:https://telclub.com.au/wp-content/uploads/2023/05/Happy-Hour-Weekdays-Feb-23-Facebook-Post-Landscape-1-e1698295046385.jpg
END:VEVENT
BEGIN:VEVENT
DTSTART;TZID=Australia/Sydney:20250228T080000
DTEND;TZID=Australia/Sydney:20270228T170000
DTSTAMP:20260423T173107
CREATED:20241002T034331Z
LAST-MODIFIED:20260319T020401Z
UID:10008740-1740729600-1803834000@telclub.com.au
SUMMARY:Weekly Raffles | Wed\, Fri & Sun
DESCRIPTION:
URL:https://telclub.com.au/event/weekly-raffles/2025-02-28/
CATEGORIES:Weekly
ATTACH;FMTTYPE=image/jpeg:https://telclub.com.au/wp-content/uploads/2023/05/Weely-Raffles-Jan-24-Flyer-e1706162250634.jpg
END:VEVENT
BEGIN:VEVENT
DTSTART;TZID=Australia/Sydney:20250305T000000
DTEND;TZID=Australia/Sydney:20270304T005900
DTSTAMP:20260423T173107
CREATED:20250204T220057Z
LAST-MODIFIED:20260224T220607Z
UID:10013010-1741132800-1804121940@telclub.com.au
SUMMARY:Monthly Cabaret Show - FREE (Last Wed of every Month)
DESCRIPTION:
URL:https://telclub.com.au/event/monthly-cabaret-show-free-2/2025-03-05/
CATEGORIES:Entertainment,Upcoming
ATTACH;FMTTYPE=image/jpeg:https://telclub.com.au/wp-content/uploads/2023/10/Happy-Hour-Weekdays-Feb-23-Facebook-Post-Landscape-2.jpg
END:VEVENT
BEGIN:VEVENT
DTSTART;TZID=Australia/Sydney:20260106T173000
DTEND;TZID=Australia/Sydney:20270304T173000
DTSTAMP:20260423T173107
CREATED:20230615T003608Z
LAST-MODIFIED:20250131T224021Z
UID:10003881-1767720600-1804181400@telclub.com.au
SUMMARY:Tuesday Steak Night
DESCRIPTION:
URL:https://telclub.com.au/event/tuesday-special/2026-01-06/
CATEGORIES:Weekly,weekly special
ATTACH;FMTTYPE=image/png:https://telclub.com.au/wp-content/uploads/2023/06/2-1-1-e1722926045784.png
END:VEVENT
BEGIN:VEVENT
DTSTART;TZID=Australia/Sydney:20260504T173000
DTEND;TZID=Australia/Sydney:20270303T183000
DTSTAMP:20260423T173107
CREATED:20230615T002803Z
LAST-MODIFIED:20250131T224243Z
UID:10004532-1777915800-1804098600@telclub.com.au
SUMMARY:Monday Barra Night
DESCRIPTION:
URL:https://telclub.com.au/event/monday-special/2026-05-04/
CATEGORIES:Weekly,weekly special
ATTACH;FMTTYPE=image/jpeg:https://telclub.com.au/wp-content/uploads/2023/06/1-3-scaled-e1738363350485.jpg
END:VEVENT
BEGIN:VEVENT
DTSTART;TZID=Australia/Sydney:20260506T173000
DTEND;TZID=Australia/Sydney:20270304T183000
DTSTAMP:20260423T173107
CREATED:20230615T004030Z
LAST-MODIFIED:20250102T035039Z
UID:10003611-1778088600-1804185000@telclub.com.au
SUMMARY:Wednesday Schnitzel
DESCRIPTION:
URL:https://telclub.com.au/event/wednesday-special/2026-05-06/
CATEGORIES:Weekly,weekly special
ATTACH;FMTTYPE=image/jpeg:https://telclub.com.au/wp-content/uploads/2023/06/schnitzel-Instagram-Post.jpg
END:VEVENT
BEGIN:VEVENT
DTSTART;TZID=Australia/Sydney:20260507T173000
DTEND;TZID=Australia/Sydney:20270304T183000
DTSTAMP:20260423T173107
CREATED:20230615T005417Z
LAST-MODIFIED:20260317T012551Z
UID:10003038-1778175000-1804185000@telclub.com.au
SUMMARY:Thursday Special - Pork Ribs
DESCRIPTION:
URL:https://telclub.com.au/event/thursday-special/2026-05-07/
CATEGORIES:Weekly,weekly special
ATTACH;FMTTYPE=image/jpeg:https://telclub.com.au/wp-content/uploads/2023/06/Thursday-Ribs-March-2026.jpg
END:VEVENT
BEGIN:VEVENT
DTSTART;TZID=Australia/Sydney:20260510T173000
DTEND;TZID=Australia/Sydney:20270304T183000
DTSTAMP:20260423T173107
CREATED:20230615T005847Z
LAST-MODIFIED:20250131T230238Z
UID:10003325-1778434200-1804185000@telclub.com.au
SUMMARY:Sunday Roast Night
DESCRIPTION:
URL:https://telclub.com.au/event/sunday-special/2026-05-10/
CATEGORIES:Weekly,weekly special
ATTACH;FMTTYPE=image/jpeg:https://telclub.com.au/wp-content/uploads/2023/06/6-2-scaled-e1738364547105.jpg
END:VEVENT
BEGIN:VEVENT
DTSTART;TZID=Australia/Sydney:20260609T080000
DTEND;TZID=Australia/Sydney:20270303T180000
DTSTAMP:20260423T173107
CREATED:20240806T064845Z
LAST-MODIFIED:20250604T034427Z
UID:10005972-1780992000-1804096800@telclub.com.au
SUMMARY:Friday Burger Night
DESCRIPTION:
URL:https://telclub.com.au/event/friday-ribs-night-2/2026-06-09/
CATEGORIES:Weekly,weekly special
ATTACH;FMTTYPE=image/jpeg:https://telclub.com.au/wp-content/uploads/2024/08/BAYBREEZE_Cafe-Friday_Special_MAY_2025_TVP.jpg
END:VEVENT
BEGIN:VEVENT
DTSTART;TZID=Australia/Sydney:20270304T190000
DTEND;TZID=Australia/Sydney:20270304T210000
DTSTAMP:20260423T173107
CREATED:20251222T234320Z
LAST-MODIFIED:20260203T003655Z
UID:10013296-1804186800-1804194000@telclub.com.au
SUMMARY:TRIVIA | Every Thursday from 7pm
DESCRIPTION:
URL:https://telclub.com.au/event/trivia-commencing-29th-january-2026/2027-03-04/
CATEGORIES:Upcoming,Weekly
ATTACH;FMTTYPE=image/jpeg:https://telclub.com.au/wp-content/uploads/2025/12/TEL-Trivia-Web2.jpg
END:VEVENT
END:VCALENDAR