BEGIN:VCALENDAR
VERSION:2.0
PRODID:-//The Entrance Leagues - ECPv6.15.16.1//NONSGML v1.0//EN
CALSCALE:GREGORIAN
METHOD:PUBLISH
X-WR-CALNAME:The Entrance Leagues
X-ORIGINAL-URL:https://telclub.com.au
X-WR-CALDESC:Events for The Entrance Leagues
REFRESH-INTERVAL;VALUE=DURATION:PT1H
X-Robots-Tag:noindex
X-PUBLISHED-TTL:PT1H
BEGIN:VTIMEZONE
TZID:Australia/Sydney
BEGIN:STANDARD
TZOFFSETFROM:+1100
TZOFFSETTO:+1000
TZNAME:AEST
DTSTART:20220402T160000
END:STANDARD
BEGIN:DAYLIGHT
TZOFFSETFROM:+1000
TZOFFSETTO:+1100
TZNAME:AEDT
DTSTART:20221001T160000
END:DAYLIGHT
BEGIN:STANDARD
TZOFFSETFROM:+1100
TZOFFSETTO:+1000
TZNAME:AEST
DTSTART:20230401T160000
END:STANDARD
BEGIN:DAYLIGHT
TZOFFSETFROM:+1000
TZOFFSETTO:+1100
TZNAME:AEDT
DTSTART:20230930T160000
END:DAYLIGHT
BEGIN:STANDARD
TZOFFSETFROM:+1100
TZOFFSETTO:+1000
TZNAME:AEST
DTSTART:20240406T160000
END:STANDARD
BEGIN:DAYLIGHT
TZOFFSETFROM:+1000
TZOFFSETTO:+1100
TZNAME:AEDT
DTSTART:20241005T160000
END:DAYLIGHT
END:VTIMEZONE
BEGIN:VEVENT
DTSTART;TZID=Australia/Sydney:20230531T173000
DTEND;TZID=Australia/Sydney:20230531T173000
DTSTAMP:20260424T234437
CREATED:20230525T062341Z
LAST-MODIFIED:20230613T013441Z
UID:10002119-1685554200-1685554200@telclub.com.au
SUMMARY:State of Origin
DESCRIPTION:
URL:https://telclub.com.au/event/state-of-origin/2023-05-31/
CATEGORIES:Upcoming
ATTACH;FMTTYPE=image/jpeg:https://telclub.com.au/wp-content/uploads/2023/05/Watch-the-Origin-with-us-2.jpg
END:VEVENT
BEGIN:VEVENT
DTSTART;TZID=Australia/Sydney:20230531T170000
DTEND;TZID=Australia/Sydney:20230531T170000
DTSTAMP:20260424T234437
CREATED:20230525T060703Z
LAST-MODIFIED:20230525T060703Z
UID:10002104-1685552400-1685552400@telclub.com.au
SUMMARY:End of Month Raffle
DESCRIPTION:
URL:https://telclub.com.au/event/end-of-month-raffle/2023-05-31/
CATEGORIES:Weekly
ATTACH;FMTTYPE=image/jpeg:https://telclub.com.au/wp-content/uploads/2023/05/End-of-Month-Raffles-Presentation-169.jpg
END:VEVENT
END:VCALENDAR