BEGIN:VCALENDAR
VERSION:2.0
PRODID:-//The Entrance Leagues - ECPv6.15.16.1//NONSGML v1.0//EN
CALSCALE:GREGORIAN
METHOD:PUBLISH
X-WR-CALNAME:The Entrance Leagues
X-ORIGINAL-URL:https://telclub.com.au
X-WR-CALDESC:Events for The Entrance Leagues
REFRESH-INTERVAL;VALUE=DURATION:PT1H
X-Robots-Tag:noindex
X-PUBLISHED-TTL:PT1H
BEGIN:VTIMEZONE
TZID:Australia/Sydney
BEGIN:STANDARD
TZOFFSETFROM:+1100
TZOFFSETTO:+1000
TZNAME:AEST
DTSTART:20220402T160000
END:STANDARD
BEGIN:DAYLIGHT
TZOFFSETFROM:+1000
TZOFFSETTO:+1100
TZNAME:AEDT
DTSTART:20221001T160000
END:DAYLIGHT
BEGIN:STANDARD
TZOFFSETFROM:+1100
TZOFFSETTO:+1000
TZNAME:AEST
DTSTART:20230401T160000
END:STANDARD
BEGIN:DAYLIGHT
TZOFFSETFROM:+1000
TZOFFSETTO:+1100
TZNAME:AEDT
DTSTART:20230930T160000
END:DAYLIGHT
BEGIN:STANDARD
TZOFFSETFROM:+1100
TZOFFSETTO:+1000
TZNAME:AEST
DTSTART:20240406T160000
END:STANDARD
BEGIN:DAYLIGHT
TZOFFSETFROM:+1000
TZOFFSETTO:+1100
TZNAME:AEDT
DTSTART:20241005T160000
END:DAYLIGHT
BEGIN:STANDARD
TZOFFSETFROM:+1100
TZOFFSETTO:+1000
TZNAME:AEST
DTSTART:20250405T160000
END:STANDARD
BEGIN:DAYLIGHT
TZOFFSETFROM:+1000
TZOFFSETTO:+1100
TZNAME:AEDT
DTSTART:20251004T160000
END:DAYLIGHT
BEGIN:STANDARD
TZOFFSETFROM:+1100
TZOFFSETTO:+1000
TZNAME:AEST
DTSTART:20260404T160000
END:STANDARD
BEGIN:DAYLIGHT
TZOFFSETFROM:+1000
TZOFFSETTO:+1100
TZNAME:AEDT
DTSTART:20261003T160000
END:DAYLIGHT
BEGIN:STANDARD
TZOFFSETFROM:+1100
TZOFFSETTO:+1000
TZNAME:AEST
DTSTART:20270403T160000
END:STANDARD
BEGIN:DAYLIGHT
TZOFFSETFROM:+1000
TZOFFSETTO:+1100
TZNAME:AEDT
DTSTART:20271002T160000
END:DAYLIGHT
END:VTIMEZONE
BEGIN:VEVENT
DTSTART;TZID=Australia/Sydney:20230529T094500
DTEND;TZID=Australia/Sydney:20251128T094500
DTSTAMP:20260424T132335
CREATED:20230525T051050Z
LAST-MODIFIED:20250108T033425Z
UID:10001792-1685353500-1764323100@telclub.com.au
SUMMARY:Bingo
DESCRIPTION:
URL:https://telclub.com.au/event/bingo/2023-05-29/
CATEGORIES:Weekly
ATTACH;FMTTYPE=image/jpeg:https://telclub.com.au/wp-content/uploads/2023/05/Happy-Hour-Weekdays-Feb-23-Facebook-Post-Landscape-1-e1698295046385.jpg
END:VEVENT
BEGIN:VEVENT
DTSTART;TZID=Australia/Sydney:20230530T094500
DTEND;TZID=Australia/Sydney:20251129T094500
DTSTAMP:20260424T132335
CREATED:20230525T051050Z
LAST-MODIFIED:20250108T033425Z
UID:10001793-1685439900-1764409500@telclub.com.au
SUMMARY:Bingo
DESCRIPTION:
URL:https://telclub.com.au/event/bingo/2023-05-30/
CATEGORIES:Weekly
ATTACH;FMTTYPE=image/jpeg:https://telclub.com.au/wp-content/uploads/2023/05/Happy-Hour-Weekdays-Feb-23-Facebook-Post-Landscape-1-e1698295046385.jpg
END:VEVENT
BEGIN:VEVENT
DTSTART;TZID=Australia/Sydney:20230605T094500
DTEND;TZID=Australia/Sydney:20251205T094500
DTSTAMP:20260424T132335
CREATED:20230525T051050Z
LAST-MODIFIED:20250108T033425Z
UID:10001794-1685958300-1764927900@telclub.com.au
SUMMARY:Bingo
DESCRIPTION:
URL:https://telclub.com.au/event/bingo/2023-06-05/
CATEGORIES:Weekly
ATTACH;FMTTYPE=image/jpeg:https://telclub.com.au/wp-content/uploads/2023/05/Happy-Hour-Weekdays-Feb-23-Facebook-Post-Landscape-1-e1698295046385.jpg
END:VEVENT
BEGIN:VEVENT
DTSTART;TZID=Australia/Sydney:20230606T094500
DTEND;TZID=Australia/Sydney:20251206T094500
DTSTAMP:20260424T132335
CREATED:20230525T051050Z
LAST-MODIFIED:20250108T033425Z
UID:10001795-1686044700-1765014300@telclub.com.au
SUMMARY:Bingo
DESCRIPTION:
URL:https://telclub.com.au/event/bingo/2023-06-06/
CATEGORIES:Weekly
ATTACH;FMTTYPE=image/jpeg:https://telclub.com.au/wp-content/uploads/2023/05/Happy-Hour-Weekdays-Feb-23-Facebook-Post-Landscape-1-e1698295046385.jpg
END:VEVENT
BEGIN:VEVENT
DTSTART;TZID=Australia/Sydney:20230612T094500
DTEND;TZID=Australia/Sydney:20251212T094500
DTSTAMP:20260424T132335
CREATED:20230525T051050Z
LAST-MODIFIED:20250108T033425Z
UID:10001796-1686563100-1765532700@telclub.com.au
SUMMARY:Bingo
DESCRIPTION:
URL:https://telclub.com.au/event/bingo/2023-06-12/
CATEGORIES:Weekly
ATTACH;FMTTYPE=image/jpeg:https://telclub.com.au/wp-content/uploads/2023/05/Happy-Hour-Weekdays-Feb-23-Facebook-Post-Landscape-1-e1698295046385.jpg
END:VEVENT
BEGIN:VEVENT
DTSTART;TZID=Australia/Sydney:20230613T094500
DTEND;TZID=Australia/Sydney:20251213T094500
DTSTAMP:20260424T132335
CREATED:20230525T051050Z
LAST-MODIFIED:20250108T033425Z
UID:10001797-1686649500-1765619100@telclub.com.au
SUMMARY:Bingo
DESCRIPTION:
URL:https://telclub.com.au/event/bingo/2023-06-13/
CATEGORIES:Weekly
ATTACH;FMTTYPE=image/jpeg:https://telclub.com.au/wp-content/uploads/2023/05/Happy-Hour-Weekdays-Feb-23-Facebook-Post-Landscape-1-e1698295046385.jpg
END:VEVENT
BEGIN:VEVENT
DTSTART;TZID=Australia/Sydney:20230613T150000
DTEND;TZID=Australia/Sydney:20230613T180000
DTSTAMP:20260424T132335
CREATED:20230525T044256Z
LAST-MODIFIED:20240503T060850Z
UID:10001435-1686668400-1686679200@telclub.com.au
SUMMARY:Weekday Happy Hours
DESCRIPTION:
URL:https://telclub.com.au/event/happy-hour-weekdays/2023-06-13/
CATEGORIES:Weekly
ATTACH;FMTTYPE=image/jpeg:https://telclub.com.au/wp-content/uploads/2023/05/Happy-Hour-Weekdays-April-24-1-e1714716524126.jpg
END:VEVENT
BEGIN:VEVENT
DTSTART;TZID=Australia/Sydney:20230614T150000
DTEND;TZID=Australia/Sydney:20230614T180000
DTSTAMP:20260424T132335
CREATED:20230525T044256Z
LAST-MODIFIED:20240503T060850Z
UID:10001436-1686754800-1686765600@telclub.com.au
SUMMARY:Weekday Happy Hours
DESCRIPTION:
URL:https://telclub.com.au/event/happy-hour-weekdays/2023-06-14/
CATEGORIES:Weekly
ATTACH;FMTTYPE=image/jpeg:https://telclub.com.au/wp-content/uploads/2023/05/Happy-Hour-Weekdays-April-24-1-e1714716524126.jpg
END:VEVENT
BEGIN:VEVENT
DTSTART;TZID=Australia/Sydney:20230614T153000
DTEND;TZID=Australia/Sydney:20260616T193000
DTSTAMP:20260424T132335
CREATED:20230613T015214Z
LAST-MODIFIED:20241003T012547Z
UID:10002185-1686756600-1781638200@telclub.com.au
SUMMARY:Courtesy Bus
DESCRIPTION:
URL:https://telclub.com.au/event/courtesy-bus-2/2023-06-14/
CATEGORIES:Weekly
ATTACH;FMTTYPE=image/jpeg:https://telclub.com.au/wp-content/uploads/2023/06/Courtesy-Bus-1.jpg
END:VEVENT
BEGIN:VEVENT
DTSTART;TZID=Australia/Sydney:20230615T150000
DTEND;TZID=Australia/Sydney:20230615T180000
DTSTAMP:20260424T132335
CREATED:20230525T044256Z
LAST-MODIFIED:20240503T060850Z
UID:10001437-1686841200-1686852000@telclub.com.au
SUMMARY:Weekday Happy Hours
DESCRIPTION:
URL:https://telclub.com.au/event/happy-hour-weekdays/2023-06-15/
CATEGORIES:Weekly
ATTACH;FMTTYPE=image/jpeg:https://telclub.com.au/wp-content/uploads/2023/05/Happy-Hour-Weekdays-April-24-1-e1714716524126.jpg
END:VEVENT
BEGIN:VEVENT
DTSTART;TZID=Australia/Sydney:20230615T153000
DTEND;TZID=Australia/Sydney:20260617T193000
DTSTAMP:20260424T132335
CREATED:20230613T015214Z
LAST-MODIFIED:20241003T012547Z
UID:10002186-1686843000-1781724600@telclub.com.au
SUMMARY:Courtesy Bus
DESCRIPTION:
URL:https://telclub.com.au/event/courtesy-bus-2/2023-06-15/
CATEGORIES:Weekly
ATTACH;FMTTYPE=image/jpeg:https://telclub.com.au/wp-content/uploads/2023/06/Courtesy-Bus-1.jpg
END:VEVENT
BEGIN:VEVENT
DTSTART;TZID=Australia/Sydney:20230615T173000
DTEND;TZID=Australia/Sydney:20240411T173000
DTSTAMP:20260424T132335
CREATED:20230615T005417Z
LAST-MODIFIED:20260317T012551Z
UID:10002602-1686850200-1712856600@telclub.com.au
SUMMARY:Thursday Special - Pork Ribs
DESCRIPTION:
URL:https://telclub.com.au/event/thursday-special/2023-06-15/
CATEGORIES:Weekly,weekly special
ATTACH;FMTTYPE=image/jpeg:https://telclub.com.au/wp-content/uploads/2023/06/Thursday-Ribs-March-2026.jpg
END:VEVENT
BEGIN:VEVENT
DTSTART;TZID=Australia/Sydney:20230616T150000
DTEND;TZID=Australia/Sydney:20230616T180000
DTSTAMP:20260424T132335
CREATED:20230525T044256Z
LAST-MODIFIED:20240503T060850Z
UID:10001438-1686927600-1686938400@telclub.com.au
SUMMARY:Weekday Happy Hours
DESCRIPTION:
URL:https://telclub.com.au/event/happy-hour-weekdays/2023-06-16/
CATEGORIES:Weekly
ATTACH;FMTTYPE=image/jpeg:https://telclub.com.au/wp-content/uploads/2023/05/Happy-Hour-Weekdays-April-24-1-e1714716524126.jpg
END:VEVENT
BEGIN:VEVENT
DTSTART;TZID=Australia/Sydney:20230616T153000
DTEND;TZID=Australia/Sydney:20260618T193000
DTSTAMP:20260424T132335
CREATED:20230613T015214Z
LAST-MODIFIED:20241003T012547Z
UID:10002187-1686929400-1781811000@telclub.com.au
SUMMARY:Courtesy Bus
DESCRIPTION:
URL:https://telclub.com.au/event/courtesy-bus-2/2023-06-16/
CATEGORIES:Weekly
ATTACH;FMTTYPE=image/jpeg:https://telclub.com.au/wp-content/uploads/2023/06/Courtesy-Bus-1.jpg
END:VEVENT
BEGIN:VEVENT
DTSTART;TZID=Australia/Sydney:20230617T153000
DTEND;TZID=Australia/Sydney:20260619T193000
DTSTAMP:20260424T132335
CREATED:20230613T015214Z
LAST-MODIFIED:20241003T012547Z
UID:10011050-1687015800-1781897400@telclub.com.au
SUMMARY:Courtesy Bus
DESCRIPTION:
URL:https://telclub.com.au/event/courtesy-bus-2/2023-06-17/
CATEGORIES:Weekly
ATTACH;FMTTYPE=image/jpeg:https://telclub.com.au/wp-content/uploads/2023/06/Courtesy-Bus-1.jpg
END:VEVENT
BEGIN:VEVENT
DTSTART;TZID=Australia/Sydney:20230618T153000
DTEND;TZID=Australia/Sydney:20260620T193000
DTSTAMP:20260424T132335
CREATED:20230613T015214Z
LAST-MODIFIED:20241003T012547Z
UID:10011051-1687102200-1781983800@telclub.com.au
SUMMARY:Courtesy Bus
DESCRIPTION:
URL:https://telclub.com.au/event/courtesy-bus-2/2023-06-18/
CATEGORIES:Weekly
ATTACH;FMTTYPE=image/jpeg:https://telclub.com.au/wp-content/uploads/2023/06/Courtesy-Bus-1.jpg
END:VEVENT
BEGIN:VEVENT
DTSTART;TZID=Australia/Sydney:20230618T173000
DTEND;TZID=Australia/Sydney:20240411T173000
DTSTAMP:20260424T132335
CREATED:20230615T005847Z
LAST-MODIFIED:20250131T230238Z
UID:10002662-1687109400-1712856600@telclub.com.au
SUMMARY:Sunday Roast Night
DESCRIPTION:
URL:https://telclub.com.au/event/sunday-special/2023-06-18/
CATEGORIES:Weekly,weekly special
ATTACH;FMTTYPE=image/jpeg:https://telclub.com.au/wp-content/uploads/2023/06/6-2-scaled-e1738364547105.jpg
END:VEVENT
END:VCALENDAR