BEGIN:VCALENDAR
VERSION:2.0
PRODID:-//The Entrance Leagues - ECPv6.15.16.1//NONSGML v1.0//EN
CALSCALE:GREGORIAN
METHOD:PUBLISH
X-WR-CALNAME:The Entrance Leagues
X-ORIGINAL-URL:https://telclub.com.au
X-WR-CALDESC:Events for The Entrance Leagues
REFRESH-INTERVAL;VALUE=DURATION:PT1H
X-Robots-Tag:noindex
X-PUBLISHED-TTL:PT1H
BEGIN:VTIMEZONE
TZID:Australia/Sydney
BEGIN:STANDARD
TZOFFSETFROM:+1100
TZOFFSETTO:+1000
TZNAME:AEST
DTSTART:20220402T160000
END:STANDARD
BEGIN:DAYLIGHT
TZOFFSETFROM:+1000
TZOFFSETTO:+1100
TZNAME:AEDT
DTSTART:20221001T160000
END:DAYLIGHT
BEGIN:STANDARD
TZOFFSETFROM:+1100
TZOFFSETTO:+1000
TZNAME:AEST
DTSTART:20230401T160000
END:STANDARD
BEGIN:DAYLIGHT
TZOFFSETFROM:+1000
TZOFFSETTO:+1100
TZNAME:AEDT
DTSTART:20230930T160000
END:DAYLIGHT
BEGIN:STANDARD
TZOFFSETFROM:+1100
TZOFFSETTO:+1000
TZNAME:AEST
DTSTART:20240406T160000
END:STANDARD
BEGIN:DAYLIGHT
TZOFFSETFROM:+1000
TZOFFSETTO:+1100
TZNAME:AEDT
DTSTART:20241005T160000
END:DAYLIGHT
BEGIN:STANDARD
TZOFFSETFROM:+1100
TZOFFSETTO:+1000
TZNAME:AEST
DTSTART:20250405T160000
END:STANDARD
BEGIN:DAYLIGHT
TZOFFSETFROM:+1000
TZOFFSETTO:+1100
TZNAME:AEDT
DTSTART:20251004T160000
END:DAYLIGHT
BEGIN:STANDARD
TZOFFSETFROM:+1100
TZOFFSETTO:+1000
TZNAME:AEST
DTSTART:20260404T160000
END:STANDARD
BEGIN:DAYLIGHT
TZOFFSETFROM:+1000
TZOFFSETTO:+1100
TZNAME:AEDT
DTSTART:20261003T160000
END:DAYLIGHT
BEGIN:STANDARD
TZOFFSETFROM:+1100
TZOFFSETTO:+1000
TZNAME:AEST
DTSTART:20270403T160000
END:STANDARD
BEGIN:DAYLIGHT
TZOFFSETFROM:+1000
TZOFFSETTO:+1100
TZNAME:AEDT
DTSTART:20271002T160000
END:DAYLIGHT
END:VTIMEZONE
BEGIN:VEVENT
DTSTART;TZID=Australia/Sydney:20230529T094500
DTEND;TZID=Australia/Sydney:20251128T094500
DTSTAMP:20260424T215236
CREATED:20230525T051050Z
LAST-MODIFIED:20250108T033425Z
UID:10001792-1685353500-1764323100@telclub.com.au
SUMMARY:Bingo
DESCRIPTION:
URL:https://telclub.com.au/event/bingo/2023-05-29/
CATEGORIES:Weekly
ATTACH;FMTTYPE=image/jpeg:https://telclub.com.au/wp-content/uploads/2023/05/Happy-Hour-Weekdays-Feb-23-Facebook-Post-Landscape-1-e1698295046385.jpg
END:VEVENT
BEGIN:VEVENT
DTSTART;TZID=Australia/Sydney:20230530T094500
DTEND;TZID=Australia/Sydney:20251129T094500
DTSTAMP:20260424T215236
CREATED:20230525T051050Z
LAST-MODIFIED:20250108T033425Z
UID:10001793-1685439900-1764409500@telclub.com.au
SUMMARY:Bingo
DESCRIPTION:
URL:https://telclub.com.au/event/bingo/2023-05-30/
CATEGORIES:Weekly
ATTACH;FMTTYPE=image/jpeg:https://telclub.com.au/wp-content/uploads/2023/05/Happy-Hour-Weekdays-Feb-23-Facebook-Post-Landscape-1-e1698295046385.jpg
END:VEVENT
BEGIN:VEVENT
DTSTART;TZID=Australia/Sydney:20230605T094500
DTEND;TZID=Australia/Sydney:20251205T094500
DTSTAMP:20260424T215236
CREATED:20230525T051050Z
LAST-MODIFIED:20250108T033425Z
UID:10001794-1685958300-1764927900@telclub.com.au
SUMMARY:Bingo
DESCRIPTION:
URL:https://telclub.com.au/event/bingo/2023-06-05/
CATEGORIES:Weekly
ATTACH;FMTTYPE=image/jpeg:https://telclub.com.au/wp-content/uploads/2023/05/Happy-Hour-Weekdays-Feb-23-Facebook-Post-Landscape-1-e1698295046385.jpg
END:VEVENT
BEGIN:VEVENT
DTSTART;TZID=Australia/Sydney:20230606T094500
DTEND;TZID=Australia/Sydney:20251206T094500
DTSTAMP:20260424T215236
CREATED:20230525T051050Z
LAST-MODIFIED:20250108T033425Z
UID:10001795-1686044700-1765014300@telclub.com.au
SUMMARY:Bingo
DESCRIPTION:
URL:https://telclub.com.au/event/bingo/2023-06-06/
CATEGORIES:Weekly
ATTACH;FMTTYPE=image/jpeg:https://telclub.com.au/wp-content/uploads/2023/05/Happy-Hour-Weekdays-Feb-23-Facebook-Post-Landscape-1-e1698295046385.jpg
END:VEVENT
BEGIN:VEVENT
DTSTART;TZID=Australia/Sydney:20230612T094500
DTEND;TZID=Australia/Sydney:20251212T094500
DTSTAMP:20260424T215236
CREATED:20230525T051050Z
LAST-MODIFIED:20250108T033425Z
UID:10001796-1686563100-1765532700@telclub.com.au
SUMMARY:Bingo
DESCRIPTION:
URL:https://telclub.com.au/event/bingo/2023-06-12/
CATEGORIES:Weekly
ATTACH;FMTTYPE=image/jpeg:https://telclub.com.au/wp-content/uploads/2023/05/Happy-Hour-Weekdays-Feb-23-Facebook-Post-Landscape-1-e1698295046385.jpg
END:VEVENT
BEGIN:VEVENT
DTSTART;TZID=Australia/Sydney:20230613T094500
DTEND;TZID=Australia/Sydney:20251213T094500
DTSTAMP:20260424T215236
CREATED:20230525T051050Z
LAST-MODIFIED:20250108T033425Z
UID:10001797-1686649500-1765619100@telclub.com.au
SUMMARY:Bingo
DESCRIPTION:
URL:https://telclub.com.au/event/bingo/2023-06-13/
CATEGORIES:Weekly
ATTACH;FMTTYPE=image/jpeg:https://telclub.com.au/wp-content/uploads/2023/05/Happy-Hour-Weekdays-Feb-23-Facebook-Post-Landscape-1-e1698295046385.jpg
END:VEVENT
BEGIN:VEVENT
DTSTART;TZID=Australia/Sydney:20230614T153000
DTEND;TZID=Australia/Sydney:20260616T193000
DTSTAMP:20260424T215236
CREATED:20230613T015214Z
LAST-MODIFIED:20241003T012547Z
UID:10002185-1686756600-1781638200@telclub.com.au
SUMMARY:Courtesy Bus
DESCRIPTION:
URL:https://telclub.com.au/event/courtesy-bus-2/2023-06-14/
CATEGORIES:Weekly
ATTACH;FMTTYPE=image/jpeg:https://telclub.com.au/wp-content/uploads/2023/06/Courtesy-Bus-1.jpg
END:VEVENT
BEGIN:VEVENT
DTSTART;TZID=Australia/Sydney:20230615T153000
DTEND;TZID=Australia/Sydney:20260617T193000
DTSTAMP:20260424T215236
CREATED:20230613T015214Z
LAST-MODIFIED:20241003T012547Z
UID:10002186-1686843000-1781724600@telclub.com.au
SUMMARY:Courtesy Bus
DESCRIPTION:
URL:https://telclub.com.au/event/courtesy-bus-2/2023-06-15/
CATEGORIES:Weekly
ATTACH;FMTTYPE=image/jpeg:https://telclub.com.au/wp-content/uploads/2023/06/Courtesy-Bus-1.jpg
END:VEVENT
BEGIN:VEVENT
DTSTART;TZID=Australia/Sydney:20230615T173000
DTEND;TZID=Australia/Sydney:20240411T173000
DTSTAMP:20260424T215236
CREATED:20230615T005417Z
LAST-MODIFIED:20260317T012551Z
UID:10002602-1686850200-1712856600@telclub.com.au
SUMMARY:Thursday Special - Pork Ribs
DESCRIPTION:
URL:https://telclub.com.au/event/thursday-special/2023-06-15/
CATEGORIES:Weekly,weekly special
ATTACH;FMTTYPE=image/jpeg:https://telclub.com.au/wp-content/uploads/2023/06/Thursday-Ribs-March-2026.jpg
END:VEVENT
BEGIN:VEVENT
DTSTART;TZID=Australia/Sydney:20230616T153000
DTEND;TZID=Australia/Sydney:20260618T193000
DTSTAMP:20260424T215236
CREATED:20230613T015214Z
LAST-MODIFIED:20241003T012547Z
UID:10002187-1686929400-1781811000@telclub.com.au
SUMMARY:Courtesy Bus
DESCRIPTION:
URL:https://telclub.com.au/event/courtesy-bus-2/2023-06-16/
CATEGORIES:Weekly
ATTACH;FMTTYPE=image/jpeg:https://telclub.com.au/wp-content/uploads/2023/06/Courtesy-Bus-1.jpg
END:VEVENT
BEGIN:VEVENT
DTSTART;TZID=Australia/Sydney:20230617T153000
DTEND;TZID=Australia/Sydney:20260619T193000
DTSTAMP:20260424T215236
CREATED:20230613T015214Z
LAST-MODIFIED:20241003T012547Z
UID:10011050-1687015800-1781897400@telclub.com.au
SUMMARY:Courtesy Bus
DESCRIPTION:
URL:https://telclub.com.au/event/courtesy-bus-2/2023-06-17/
CATEGORIES:Weekly
ATTACH;FMTTYPE=image/jpeg:https://telclub.com.au/wp-content/uploads/2023/06/Courtesy-Bus-1.jpg
END:VEVENT
BEGIN:VEVENT
DTSTART;TZID=Australia/Sydney:20230618T153000
DTEND;TZID=Australia/Sydney:20260620T193000
DTSTAMP:20260424T215236
CREATED:20230613T015214Z
LAST-MODIFIED:20241003T012547Z
UID:10011051-1687102200-1781983800@telclub.com.au
SUMMARY:Courtesy Bus
DESCRIPTION:
URL:https://telclub.com.au/event/courtesy-bus-2/2023-06-18/
CATEGORIES:Weekly
ATTACH;FMTTYPE=image/jpeg:https://telclub.com.au/wp-content/uploads/2023/06/Courtesy-Bus-1.jpg
END:VEVENT
BEGIN:VEVENT
DTSTART;TZID=Australia/Sydney:20230618T173000
DTEND;TZID=Australia/Sydney:20240411T173000
DTSTAMP:20260424T215236
CREATED:20230615T005847Z
LAST-MODIFIED:20250131T230238Z
UID:10002662-1687109400-1712856600@telclub.com.au
SUMMARY:Sunday Roast Night
DESCRIPTION:
URL:https://telclub.com.au/event/sunday-special/2023-06-18/
CATEGORIES:Weekly,weekly special
ATTACH;FMTTYPE=image/jpeg:https://telclub.com.au/wp-content/uploads/2023/06/6-2-scaled-e1738364547105.jpg
END:VEVENT
BEGIN:VEVENT
DTSTART;TZID=Australia/Sydney:20230619T094500
DTEND;TZID=Australia/Sydney:20251219T094500
DTSTAMP:20260424T215236
CREATED:20230525T051050Z
LAST-MODIFIED:20250108T033425Z
UID:10001798-1687167900-1766137500@telclub.com.au
SUMMARY:Bingo
DESCRIPTION:
URL:https://telclub.com.au/event/bingo/2023-06-19/
CATEGORIES:Weekly
ATTACH;FMTTYPE=image/jpeg:https://telclub.com.au/wp-content/uploads/2023/05/Happy-Hour-Weekdays-Feb-23-Facebook-Post-Landscape-1-e1698295046385.jpg
END:VEVENT
BEGIN:VEVENT
DTSTART;TZID=Australia/Sydney:20230620T094500
DTEND;TZID=Australia/Sydney:20251220T094500
DTSTAMP:20260424T215236
CREATED:20230525T051050Z
LAST-MODIFIED:20250108T033425Z
UID:10001799-1687254300-1766223900@telclub.com.au
SUMMARY:Bingo
DESCRIPTION:
URL:https://telclub.com.au/event/bingo/2023-06-20/
CATEGORIES:Weekly
ATTACH;FMTTYPE=image/jpeg:https://telclub.com.au/wp-content/uploads/2023/05/Happy-Hour-Weekdays-Feb-23-Facebook-Post-Landscape-1-e1698295046385.jpg
END:VEVENT
BEGIN:VEVENT
DTSTART;TZID=Australia/Sydney:20230620T173000
DTEND;TZID=Australia/Sydney:20240418T173000
DTSTAMP:20260424T215236
CREATED:20230615T002803Z
LAST-MODIFIED:20250131T224243Z
UID:10002425-1687282200-1713461400@telclub.com.au
SUMMARY:Monday Barra Night
DESCRIPTION:
URL:https://telclub.com.au/event/monday-special/2023-06-20/
CATEGORIES:Weekly,weekly special
ATTACH;FMTTYPE=image/jpeg:https://telclub.com.au/wp-content/uploads/2023/06/1-3-scaled-e1738363350485.jpg
END:VEVENT
BEGIN:VEVENT
DTSTART;TZID=Australia/Sydney:20230620T173000
DTEND;TZID=Australia/Sydney:20240815T173000
DTSTAMP:20260424T215236
CREATED:20230615T003608Z
LAST-MODIFIED:20250131T224021Z
UID:10002484-1687282200-1723743000@telclub.com.au
SUMMARY:Tuesday Steak Night
DESCRIPTION:
URL:https://telclub.com.au/event/tuesday-special/2023-06-20/
CATEGORIES:Weekly,weekly special
ATTACH;FMTTYPE=image/png:https://telclub.com.au/wp-content/uploads/2023/06/2-1-1-e1722926045784.png
END:VEVENT
BEGIN:VEVENT
DTSTART;TZID=Australia/Sydney:20230621T153000
DTEND;TZID=Australia/Sydney:20260623T193000
DTSTAMP:20260424T215236
CREATED:20230613T015214Z
LAST-MODIFIED:20241003T012547Z
UID:10002188-1687361400-1782243000@telclub.com.au
SUMMARY:Courtesy Bus
DESCRIPTION:
URL:https://telclub.com.au/event/courtesy-bus-2/2023-06-21/
CATEGORIES:Weekly
ATTACH;FMTTYPE=image/jpeg:https://telclub.com.au/wp-content/uploads/2023/06/Courtesy-Bus-1.jpg
END:VEVENT
BEGIN:VEVENT
DTSTART;TZID=Australia/Sydney:20230621T173000
DTEND;TZID=Australia/Sydney:20240418T173000
DTSTAMP:20260424T215236
CREATED:20230615T004030Z
LAST-MODIFIED:20250102T035039Z
UID:10002543-1687368600-1713461400@telclub.com.au
SUMMARY:Wednesday Schnitzel
DESCRIPTION:
URL:https://telclub.com.au/event/wednesday-special/2023-06-21/
CATEGORIES:Weekly,weekly special
ATTACH;FMTTYPE=image/jpeg:https://telclub.com.au/wp-content/uploads/2023/06/schnitzel-Instagram-Post.jpg
END:VEVENT
BEGIN:VEVENT
DTSTART;TZID=Australia/Sydney:20230622T153000
DTEND;TZID=Australia/Sydney:20260624T193000
DTSTAMP:20260424T215236
CREATED:20230613T015214Z
LAST-MODIFIED:20241003T012547Z
UID:10002189-1687447800-1782329400@telclub.com.au
SUMMARY:Courtesy Bus
DESCRIPTION:
URL:https://telclub.com.au/event/courtesy-bus-2/2023-06-22/
CATEGORIES:Weekly
ATTACH;FMTTYPE=image/jpeg:https://telclub.com.au/wp-content/uploads/2023/06/Courtesy-Bus-1.jpg
END:VEVENT
BEGIN:VEVENT
DTSTART;TZID=Australia/Sydney:20230622T173000
DTEND;TZID=Australia/Sydney:20240418T173000
DTSTAMP:20260424T215236
CREATED:20230615T005417Z
LAST-MODIFIED:20260317T012551Z
UID:10002603-1687455000-1713461400@telclub.com.au
SUMMARY:Thursday Special - Pork Ribs
DESCRIPTION:
URL:https://telclub.com.au/event/thursday-special/2023-06-22/
CATEGORIES:Weekly,weekly special
ATTACH;FMTTYPE=image/jpeg:https://telclub.com.au/wp-content/uploads/2023/06/Thursday-Ribs-March-2026.jpg
END:VEVENT
BEGIN:VEVENT
DTSTART;TZID=Australia/Sydney:20230623T153000
DTEND;TZID=Australia/Sydney:20260625T193000
DTSTAMP:20260424T215236
CREATED:20230613T015214Z
LAST-MODIFIED:20241003T012547Z
UID:10002190-1687534200-1782415800@telclub.com.au
SUMMARY:Courtesy Bus
DESCRIPTION:
URL:https://telclub.com.au/event/courtesy-bus-2/2023-06-23/
CATEGORIES:Weekly
ATTACH;FMTTYPE=image/jpeg:https://telclub.com.au/wp-content/uploads/2023/06/Courtesy-Bus-1.jpg
END:VEVENT
BEGIN:VEVENT
DTSTART;TZID=Australia/Sydney:20230624T153000
DTEND;TZID=Australia/Sydney:20260626T193000
DTSTAMP:20260424T215236
CREATED:20230613T015214Z
LAST-MODIFIED:20241003T012547Z
UID:10011052-1687620600-1782502200@telclub.com.au
SUMMARY:Courtesy Bus
DESCRIPTION:
URL:https://telclub.com.au/event/courtesy-bus-2/2023-06-24/
CATEGORIES:Weekly
ATTACH;FMTTYPE=image/jpeg:https://telclub.com.au/wp-content/uploads/2023/06/Courtesy-Bus-1.jpg
END:VEVENT
BEGIN:VEVENT
DTSTART;TZID=Australia/Sydney:20230625T153000
DTEND;TZID=Australia/Sydney:20260627T193000
DTSTAMP:20260424T215236
CREATED:20230613T015214Z
LAST-MODIFIED:20241003T012547Z
UID:10011053-1687707000-1782588600@telclub.com.au
SUMMARY:Courtesy Bus
DESCRIPTION:
URL:https://telclub.com.au/event/courtesy-bus-2/2023-06-25/
CATEGORIES:Weekly
ATTACH;FMTTYPE=image/jpeg:https://telclub.com.au/wp-content/uploads/2023/06/Courtesy-Bus-1.jpg
END:VEVENT
BEGIN:VEVENT
DTSTART;TZID=Australia/Sydney:20230625T173000
DTEND;TZID=Australia/Sydney:20240418T173000
DTSTAMP:20260424T215236
CREATED:20230615T005847Z
LAST-MODIFIED:20250131T230238Z
UID:10002663-1687714200-1713461400@telclub.com.au
SUMMARY:Sunday Roast Night
DESCRIPTION:
URL:https://telclub.com.au/event/sunday-special/2023-06-25/
CATEGORIES:Weekly,weekly special
ATTACH;FMTTYPE=image/jpeg:https://telclub.com.au/wp-content/uploads/2023/06/6-2-scaled-e1738364547105.jpg
END:VEVENT
BEGIN:VEVENT
DTSTART;TZID=Australia/Sydney:20230626T094500
DTEND;TZID=Australia/Sydney:20251226T094500
DTSTAMP:20260424T215236
CREATED:20230525T051050Z
LAST-MODIFIED:20250108T033425Z
UID:10001800-1687772700-1766742300@telclub.com.au
SUMMARY:Bingo
DESCRIPTION:
URL:https://telclub.com.au/event/bingo/2023-06-26/
CATEGORIES:Weekly
ATTACH;FMTTYPE=image/jpeg:https://telclub.com.au/wp-content/uploads/2023/05/Happy-Hour-Weekdays-Feb-23-Facebook-Post-Landscape-1-e1698295046385.jpg
END:VEVENT
BEGIN:VEVENT
DTSTART;TZID=Australia/Sydney:20230626T173000
DTEND;TZID=Australia/Sydney:20240424T173000
DTSTAMP:20260424T215236
CREATED:20230615T002803Z
LAST-MODIFIED:20250131T224243Z
UID:10004383-1687800600-1713979800@telclub.com.au
SUMMARY:Monday Barra Night
DESCRIPTION:
URL:https://telclub.com.au/event/monday-special/2023-06-26/
CATEGORIES:Weekly,weekly special
ATTACH;FMTTYPE=image/jpeg:https://telclub.com.au/wp-content/uploads/2023/06/1-3-scaled-e1738363350485.jpg
END:VEVENT
BEGIN:VEVENT
DTSTART;TZID=Australia/Sydney:20230627T094500
DTEND;TZID=Australia/Sydney:20251227T094500
DTSTAMP:20260424T215236
CREATED:20230525T051050Z
LAST-MODIFIED:20250108T033425Z
UID:10001801-1687859100-1766828700@telclub.com.au
SUMMARY:Bingo
DESCRIPTION:
URL:https://telclub.com.au/event/bingo/2023-06-27/
CATEGORIES:Weekly
ATTACH;FMTTYPE=image/jpeg:https://telclub.com.au/wp-content/uploads/2023/05/Happy-Hour-Weekdays-Feb-23-Facebook-Post-Landscape-1-e1698295046385.jpg
END:VEVENT
BEGIN:VEVENT
DTSTART;TZID=Australia/Sydney:20230627T173000
DTEND;TZID=Australia/Sydney:20240822T173000
DTSTAMP:20260424T215236
CREATED:20230615T003608Z
LAST-MODIFIED:20250131T224021Z
UID:10002485-1687887000-1724347800@telclub.com.au
SUMMARY:Tuesday Steak Night
DESCRIPTION:
URL:https://telclub.com.au/event/tuesday-special/2023-06-27/
CATEGORIES:Weekly,weekly special
ATTACH;FMTTYPE=image/png:https://telclub.com.au/wp-content/uploads/2023/06/2-1-1-e1722926045784.png
END:VEVENT
BEGIN:VEVENT
DTSTART;TZID=Australia/Sydney:20230628T153000
DTEND;TZID=Australia/Sydney:20260630T193000
DTSTAMP:20260424T215236
CREATED:20230613T015214Z
LAST-MODIFIED:20241003T012547Z
UID:10002191-1687966200-1782847800@telclub.com.au
SUMMARY:Courtesy Bus
DESCRIPTION:
URL:https://telclub.com.au/event/courtesy-bus-2/2023-06-28/
CATEGORIES:Weekly
ATTACH;FMTTYPE=image/jpeg:https://telclub.com.au/wp-content/uploads/2023/06/Courtesy-Bus-1.jpg
END:VEVENT
END:VCALENDAR